BEGIN:VCALENDAR
VERSION:2.0
PRODID:-//Southeastern Brain Tumor Foundation - ECPv6.15.20//NONSGML v1.0//EN
CALSCALE:GREGORIAN
METHOD:PUBLISH
X-WR-CALNAME:Southeastern Brain Tumor Foundation
X-ORIGINAL-URL:https://sbtf.org
X-WR-CALDESC:Events for Southeastern Brain Tumor Foundation
REFRESH-INTERVAL;VALUE=DURATION:PT1H
X-Robots-Tag:noindex
X-PUBLISHED-TTL:PT1H
BEGIN:VTIMEZONE
TZID:America/New_York
BEGIN:DAYLIGHT
TZOFFSETFROM:-0500
TZOFFSETTO:-0400
TZNAME:EDT
DTSTART:20220313T070000
END:DAYLIGHT
BEGIN:STANDARD
TZOFFSETFROM:-0400
TZOFFSETTO:-0500
TZNAME:EST
DTSTART:20221106T060000
END:STANDARD
BEGIN:DAYLIGHT
TZOFFSETFROM:-0500
TZOFFSETTO:-0400
TZNAME:EDT
DTSTART:20230312T070000
END:DAYLIGHT
BEGIN:STANDARD
TZOFFSETFROM:-0400
TZOFFSETTO:-0500
TZNAME:EST
DTSTART:20231105T060000
END:STANDARD
BEGIN:DAYLIGHT
TZOFFSETFROM:-0500
TZOFFSETTO:-0400
TZNAME:EDT
DTSTART:20240310T070000
END:DAYLIGHT
BEGIN:STANDARD
TZOFFSETFROM:-0400
TZOFFSETTO:-0500
TZNAME:EST
DTSTART:20241103T060000
END:STANDARD
END:VTIMEZONE
BEGIN:VEVENT
DTSTART;VALUE=DATE:20230501
DTEND;VALUE=DATE:20230601
DTSTAMP:20260419T171720
CREATED:20210209T025304Z
LAST-MODIFIED:20220318T154546Z
UID:10000185-1682899200-1685577599@sbtf.org
SUMMARY:Brain Tumor Awareness Month
DESCRIPTION:GO GRAY IN MAY\n\nMay is Brain Tumor Awareness Month:\n\n130+ Types of Brain Tumors\n700\,000 Americans Are Living With a Brain Tumor\n87\,000+ Primary Brain Tumor Diagnoses This Year\n20% of Diagnosed Brain Tumors Are Malignant\n34.7% Avg Survival Rate for Malignant Brain Tumor Patients\n#1 Cancer-Related Cause of Death Ages 0–19\, Pediatric Brain Tumors\n\nThat’s Why We Go GRAY in May!\nWill you get involved and Go GRAY\, too?\nYou can go simple:\n\nWear gray and post on social media\nPin gray ribbons on your business cards\nHand out gray ribbons for others to wear\n\nYou can go big:\n\nHave an Earl Gray Tea Party\nDisplay gray ribbons around your neighborhood or community center\nEncourage your church\, school or university to go gray\nCollect silver coins and donate\nSponsor Go Gray events\n\nGet Social!\n\nChange your social media profile picture to gray or black/white\nUse hashtags: #gogray #gograyinmay #SBTForg #BTAM #braintumorawareness
URL:https://sbtf.org/event/brain-tumor-awareness-month/2023-05-01/
LOCATION:Virtual Event\, United States
CATEGORIES:Brain Tumor Awareness Month
ATTACH;FMTTYPE=image/png:https://sbtf.org/wp-content/uploads/2021/02/gray-in-may.png
ORGANIZER;CN="Southeastern Brain Tumor Foundation":MAILTO:info@sbtf.org
END:VEVENT
BEGIN:VEVENT
DTSTART;TZID=America/New_York:20230506T110000
DTEND;TZID=America/New_York:20230506T190000
DTSTAMP:20260419T171720
CREATED:20221018T223048Z
LAST-MODIFIED:20230703T171752Z
UID:10000332-1683370800-1683399600@sbtf.org
SUMMARY:SBTF Golf Invitational - The Oconee Course at Reynolds Plantation
DESCRIPTION:Join us at The Oconee Golf Course at Reynolds Lake Oconee for the SBTF Golf Invitational! Visit support.sbtf.org/golf for all the details!\n \nDownload a golf flyer to share and for more information. \nA block of rooms have been reserved at the Ritz-Carlton at Lake Oconee. Please email admin@sbtf.org for details to secure a room for Friday and/or Saturday night. You must reserve your room prior to April 1\, 2023. \nTo register\, click HERE. A round of golf\, gifts\, and all food and beverage during the event are included with registration. \nSponsorship opportunities are available\, click HERE to learn more. \nGolf Sponsor Benefits v2 \n 
URL:https://sbtf.org/event/sbtf-golf-invitational/
CATEGORIES:Brain Tumor Awareness Month,Events,Golf Invitational
ATTACH;FMTTYPE=image/png:https://sbtf.org/wp-content/uploads/2022/10/logo-g.png
ORGANIZER;CN="Southeastern Brain Tumor Foundation":MAILTO:info@sbtf.org
END:VEVENT
END:VCALENDAR