BEGIN:VCALENDAR
VERSION:2.0
PRODID:-//Southeastern Brain Tumor Foundation - ECPv6.15.20//NONSGML v1.0//EN
CALSCALE:GREGORIAN
METHOD:PUBLISH
X-WR-CALNAME:Southeastern Brain Tumor Foundation
X-ORIGINAL-URL:https://sbtf.org
X-WR-CALDESC:Events for Southeastern Brain Tumor Foundation
REFRESH-INTERVAL;VALUE=DURATION:PT1H
X-Robots-Tag:noindex
X-PUBLISHED-TTL:PT1H
BEGIN:VTIMEZONE
TZID:America/New_York
BEGIN:DAYLIGHT
TZOFFSETFROM:-0500
TZOFFSETTO:-0400
TZNAME:EDT
DTSTART:20250309T070000
END:DAYLIGHT
BEGIN:STANDARD
TZOFFSETFROM:-0400
TZOFFSETTO:-0500
TZNAME:EST
DTSTART:20251102T060000
END:STANDARD
BEGIN:DAYLIGHT
TZOFFSETFROM:-0500
TZOFFSETTO:-0400
TZNAME:EDT
DTSTART:20260308T070000
END:DAYLIGHT
BEGIN:STANDARD
TZOFFSETFROM:-0400
TZOFFSETTO:-0500
TZNAME:EST
DTSTART:20261101T060000
END:STANDARD
BEGIN:DAYLIGHT
TZOFFSETFROM:-0500
TZOFFSETTO:-0400
TZNAME:EDT
DTSTART:20270314T070000
END:DAYLIGHT
BEGIN:STANDARD
TZOFFSETFROM:-0400
TZOFFSETTO:-0500
TZNAME:EST
DTSTART:20271107T060000
END:STANDARD
BEGIN:DAYLIGHT
TZOFFSETFROM:-0500
TZOFFSETTO:-0400
TZNAME:EDT
DTSTART:20280312T070000
END:DAYLIGHT
BEGIN:STANDARD
TZOFFSETFROM:-0400
TZOFFSETTO:-0500
TZNAME:EST
DTSTART:20281105T060000
END:STANDARD
BEGIN:DAYLIGHT
TZOFFSETFROM:-0500
TZOFFSETTO:-0400
TZNAME:EDT
DTSTART:20290311T070000
END:DAYLIGHT
BEGIN:STANDARD
TZOFFSETFROM:-0400
TZOFFSETTO:-0500
TZNAME:EST
DTSTART:20291104T060000
END:STANDARD
BEGIN:DAYLIGHT
TZOFFSETFROM:-0500
TZOFFSETTO:-0400
TZNAME:EDT
DTSTART:20300310T070000
END:DAYLIGHT
BEGIN:STANDARD
TZOFFSETFROM:-0400
TZOFFSETTO:-0500
TZNAME:EST
DTSTART:20301103T060000
END:STANDARD
BEGIN:DAYLIGHT
TZOFFSETFROM:-0500
TZOFFSETTO:-0400
TZNAME:EDT
DTSTART:20310309T070000
END:DAYLIGHT
BEGIN:STANDARD
TZOFFSETFROM:-0400
TZOFFSETTO:-0500
TZNAME:EST
DTSTART:20311102T060000
END:STANDARD
END:VTIMEZONE
BEGIN:VEVENT
DTSTART;VALUE=DATE:20260625
DTEND;VALUE=DATE:20260626
DTSTAMP:20260425T090305
CREATED:20251008T185913Z
LAST-MODIFIED:20251008T190022Z
UID:10000850-1782345600-1782431999@sbtf.org
SUMMARY:Southeastern Brain Tumor Foundation's Birthday
DESCRIPTION:Southeastern Brain Tumor Foundation’s birthday is June 25th! \nCelebrate another year of the Southeastern Brain Tumor Foundation with us! The SBTF was founded in 1995 by a family whose son was facing a brain tumor diagnosis. It has grown into a Foundation that has funded almost $3 million dollars in research\, awarded scholarships\, and supported patients and their families. Our impact together can be seen in the research strides as well as in the improvement of the lives of brain tumor and brain cancer patients and their families. Each year the generosity of our loyal supporters is translated into research grants\, educational scholarships\, support group programs and patient services. The Foundation is proudly served by an all-volunteer Board of Directors who have each been impacted by a brain tumor or brain cancer. \nPlease consider making a birthday gift to the Southeastern Brain Tumor Foundation today and celebrate with us! \nIf you donate on this site you can choose how to direct your gift: research\, scholarships\, or to lighten the load for patients. Don’t forget to check to see if your employer will match your gift and double the impact of your generosity! Thank you for celebrating the Southeastern Brain Tumor Foundation’s Birthday!
URL:https://sbtf.org/event/southeastern-brain-tumor-foundation-birthday-2022-06-25-2-2/2026-06-25/
LOCATION:Virtual Event\, United States
CATEGORIES:Celebration,Events
ATTACH;FMTTYPE=image/png:https://sbtf.org/wp-content/uploads/2020/12/DONATE-25-years.png
ORGANIZER;CN="Southeastern Brain Tumor Foundation":MAILTO:info@sbtf.org
END:VEVENT
BEGIN:VEVENT
DTSTART;VALUE=DATE:20270625
DTEND;VALUE=DATE:20270626
DTSTAMP:20260425T090305
CREATED:20251008T185913Z
LAST-MODIFIED:20251008T190022Z
UID:10000962-1813881600-1813967999@sbtf.org
SUMMARY:Southeastern Brain Tumor Foundation's Birthday
DESCRIPTION:Southeastern Brain Tumor Foundation’s birthday is June 25th! \nCelebrate another year of the Southeastern Brain Tumor Foundation with us! The SBTF was founded in 1995 by a family whose son was facing a brain tumor diagnosis. It has grown into a Foundation that has funded almost $3 million dollars in research\, awarded scholarships\, and supported patients and their families. Our impact together can be seen in the research strides as well as in the improvement of the lives of brain tumor and brain cancer patients and their families. Each year the generosity of our loyal supporters is translated into research grants\, educational scholarships\, support group programs and patient services. The Foundation is proudly served by an all-volunteer Board of Directors who have each been impacted by a brain tumor or brain cancer. \nPlease consider making a birthday gift to the Southeastern Brain Tumor Foundation today and celebrate with us! \nIf you donate on this site you can choose how to direct your gift: research\, scholarships\, or to lighten the load for patients. Don’t forget to check to see if your employer will match your gift and double the impact of your generosity! Thank you for celebrating the Southeastern Brain Tumor Foundation’s Birthday!
URL:https://sbtf.org/event/southeastern-brain-tumor-foundation-birthday-2022-06-25-2-2/2027-06-25/
LOCATION:Virtual Event\, United States
CATEGORIES:Celebration,Events
ATTACH;FMTTYPE=image/png:https://sbtf.org/wp-content/uploads/2020/12/DONATE-25-years.png
ORGANIZER;CN="Southeastern Brain Tumor Foundation":MAILTO:info@sbtf.org
END:VEVENT
BEGIN:VEVENT
DTSTART;VALUE=DATE:20280625
DTEND;VALUE=DATE:20280626
DTSTAMP:20260425T090305
CREATED:20251008T185913Z
LAST-MODIFIED:20251008T190022Z
UID:10000963-1845504000-1845590399@sbtf.org
SUMMARY:Southeastern Brain Tumor Foundation's Birthday
DESCRIPTION:Southeastern Brain Tumor Foundation’s birthday is June 25th! \nCelebrate another year of the Southeastern Brain Tumor Foundation with us! The SBTF was founded in 1995 by a family whose son was facing a brain tumor diagnosis. It has grown into a Foundation that has funded almost $3 million dollars in research\, awarded scholarships\, and supported patients and their families. Our impact together can be seen in the research strides as well as in the improvement of the lives of brain tumor and brain cancer patients and their families. Each year the generosity of our loyal supporters is translated into research grants\, educational scholarships\, support group programs and patient services. The Foundation is proudly served by an all-volunteer Board of Directors who have each been impacted by a brain tumor or brain cancer. \nPlease consider making a birthday gift to the Southeastern Brain Tumor Foundation today and celebrate with us! \nIf you donate on this site you can choose how to direct your gift: research\, scholarships\, or to lighten the load for patients. Don’t forget to check to see if your employer will match your gift and double the impact of your generosity! Thank you for celebrating the Southeastern Brain Tumor Foundation’s Birthday!
URL:https://sbtf.org/event/southeastern-brain-tumor-foundation-birthday-2022-06-25-2-2/2028-06-25/
LOCATION:Virtual Event\, United States
CATEGORIES:Celebration,Events
ATTACH;FMTTYPE=image/png:https://sbtf.org/wp-content/uploads/2020/12/DONATE-25-years.png
ORGANIZER;CN="Southeastern Brain Tumor Foundation":MAILTO:info@sbtf.org
END:VEVENT
BEGIN:VEVENT
DTSTART;VALUE=DATE:20290625
DTEND;VALUE=DATE:20290626
DTSTAMP:20260425T090305
CREATED:20251008T185913Z
LAST-MODIFIED:20251008T190022Z
UID:10000964-1877040000-1877126399@sbtf.org
SUMMARY:Southeastern Brain Tumor Foundation's Birthday
DESCRIPTION:Southeastern Brain Tumor Foundation’s birthday is June 25th! \nCelebrate another year of the Southeastern Brain Tumor Foundation with us! The SBTF was founded in 1995 by a family whose son was facing a brain tumor diagnosis. It has grown into a Foundation that has funded almost $3 million dollars in research\, awarded scholarships\, and supported patients and their families. Our impact together can be seen in the research strides as well as in the improvement of the lives of brain tumor and brain cancer patients and their families. Each year the generosity of our loyal supporters is translated into research grants\, educational scholarships\, support group programs and patient services. The Foundation is proudly served by an all-volunteer Board of Directors who have each been impacted by a brain tumor or brain cancer. \nPlease consider making a birthday gift to the Southeastern Brain Tumor Foundation today and celebrate with us! \nIf you donate on this site you can choose how to direct your gift: research\, scholarships\, or to lighten the load for patients. Don’t forget to check to see if your employer will match your gift and double the impact of your generosity! Thank you for celebrating the Southeastern Brain Tumor Foundation’s Birthday!
URL:https://sbtf.org/event/southeastern-brain-tumor-foundation-birthday-2022-06-25-2-2/2029-06-25/
LOCATION:Virtual Event\, United States
CATEGORIES:Celebration,Events
ATTACH;FMTTYPE=image/png:https://sbtf.org/wp-content/uploads/2020/12/DONATE-25-years.png
ORGANIZER;CN="Southeastern Brain Tumor Foundation":MAILTO:info@sbtf.org
END:VEVENT
BEGIN:VEVENT
DTSTART;VALUE=DATE:20300625
DTEND;VALUE=DATE:20300626
DTSTAMP:20260425T090305
CREATED:20251008T185913Z
LAST-MODIFIED:20251008T190022Z
UID:10000965-1908576000-1908662399@sbtf.org
SUMMARY:Southeastern Brain Tumor Foundation's Birthday
DESCRIPTION:Southeastern Brain Tumor Foundation’s birthday is June 25th! \nCelebrate another year of the Southeastern Brain Tumor Foundation with us! The SBTF was founded in 1995 by a family whose son was facing a brain tumor diagnosis. It has grown into a Foundation that has funded almost $3 million dollars in research\, awarded scholarships\, and supported patients and their families. Our impact together can be seen in the research strides as well as in the improvement of the lives of brain tumor and brain cancer patients and their families. Each year the generosity of our loyal supporters is translated into research grants\, educational scholarships\, support group programs and patient services. The Foundation is proudly served by an all-volunteer Board of Directors who have each been impacted by a brain tumor or brain cancer. \nPlease consider making a birthday gift to the Southeastern Brain Tumor Foundation today and celebrate with us! \nIf you donate on this site you can choose how to direct your gift: research\, scholarships\, or to lighten the load for patients. Don’t forget to check to see if your employer will match your gift and double the impact of your generosity! Thank you for celebrating the Southeastern Brain Tumor Foundation’s Birthday!
URL:https://sbtf.org/event/southeastern-brain-tumor-foundation-birthday-2022-06-25-2-2/2030-06-25/
LOCATION:Virtual Event\, United States
CATEGORIES:Celebration,Events
ATTACH;FMTTYPE=image/png:https://sbtf.org/wp-content/uploads/2020/12/DONATE-25-years.png
ORGANIZER;CN="Southeastern Brain Tumor Foundation":MAILTO:info@sbtf.org
END:VEVENT
END:VCALENDAR