BEGIN:VCALENDAR
VERSION:2.0
PRODID:-//Southeastern Brain Tumor Foundation - ECPv6.15.20//NONSGML v1.0//EN
CALSCALE:GREGORIAN
METHOD:PUBLISH
X-WR-CALNAME:Southeastern Brain Tumor Foundation
X-ORIGINAL-URL:https://sbtf.org
X-WR-CALDESC:Events for Southeastern Brain Tumor Foundation
REFRESH-INTERVAL;VALUE=DURATION:PT1H
X-Robots-Tag:noindex
X-PUBLISHED-TTL:PT1H
BEGIN:VTIMEZONE
TZID:America/New_York
BEGIN:DAYLIGHT
TZOFFSETFROM:-0500
TZOFFSETTO:-0400
TZNAME:EDT
DTSTART:20200308T070000
END:DAYLIGHT
BEGIN:STANDARD
TZOFFSETFROM:-0400
TZOFFSETTO:-0500
TZNAME:EST
DTSTART:20201101T060000
END:STANDARD
BEGIN:DAYLIGHT
TZOFFSETFROM:-0500
TZOFFSETTO:-0400
TZNAME:EDT
DTSTART:20210314T070000
END:DAYLIGHT
BEGIN:STANDARD
TZOFFSETFROM:-0400
TZOFFSETTO:-0500
TZNAME:EST
DTSTART:20211107T060000
END:STANDARD
BEGIN:DAYLIGHT
TZOFFSETFROM:-0500
TZOFFSETTO:-0400
TZNAME:EDT
DTSTART:20220313T070000
END:DAYLIGHT
BEGIN:STANDARD
TZOFFSETFROM:-0400
TZOFFSETTO:-0500
TZNAME:EST
DTSTART:20221106T060000
END:STANDARD
END:VTIMEZONE
BEGIN:VEVENT
DTSTART;TZID=America/New_York:20210724T080000
DTEND;TZID=America/New_York:20210724T120000
DTSTAMP:20260425T102337
CREATED:20201020T174836Z
LAST-MODIFIED:20210812T195011Z
UID:10000166-1627113600-1627128000@sbtf.org
SUMMARY:MUDDY DUCK DASH
DESCRIPTION:The Muddy Duck Dash is an easy to moderate 3.2 mile mud/obstacle style race and included about 20-25 various obstacles\, like hay bail climbs\, 6′ walls\, shallow pond crossing\, low wire\, creek run\, mud pit\, rope hill climb\, various barricades\, bubble slide\, tree maze\, plus more! A Duckling Dash allows kids under eight and those who’s abilities may not fit the full course to participate. The Dash has scheduled starting waves\, so be sure to get your flock all in the same start wave! \nHeld rain or shine\, this event is GORMR certified and attracts more than 1\,000 participants. Visit sbtfmdd.com for further details. Pay attention to the DJ— he will announce the starting waves\, games and results during the Dash. \nThe Dash is also looking for sponsors! For further information on sponsor benefits and how to partner with the SBTF at the Muddy Duck Dash\, please view the Sponsorship Form or visit the Sponsor tab at sbtfmdd.com \nThe full 5k Dash is $50 until July 20 at midnight and $60 Dash day. The Duckling Dash is $25 pre-registered and $35 on Dash Day. \nTeams may elect to reserve a team tent location in Central Flock and have a place for their team to gather\, store personal items and wash off after the event. A hose will be available for limited rinsing however changing areas and full bathrooms will not be available. \nChick-fil-A and Kona Ice will be onsite selling food and beverages\, they accept cash\, credit card and Venmo. Be sure to stop by the Southeastern Brain Tumor Foundation tent and learn about how your participation helps the brain tumor community. \nDash photos are available approximately two weeks after the event. Check back here or on our Newsroom page for the link once available. A BIG THANKS to our sponsors who make the event possible.
URL:https://sbtf.org/event/muddy-duck-dash/
LOCATION:University of North Georgia- Gainesville/Oakwood Campus\, 3820 Mundy Mill Road\, Oakwood\, GA\, 30566\, United States
CATEGORIES:Events
ATTACH;FMTTYPE=image/jpeg:https://sbtf.org/wp-content/uploads/2020/10/MDD.jpg
ORGANIZER;CN="Southeastern Brain Tumor Foundation":MAILTO:info@sbtf.org
END:VEVENT
BEGIN:VEVENT
DTSTART;VALUE=DATE:20210625
DTEND;VALUE=DATE:20210626
DTSTAMP:20260425T102337
CREATED:20201205T073101Z
LAST-MODIFIED:20220324T174157Z
UID:10000169-1624579200-1624665599@sbtf.org
SUMMARY:Southeastern Brain Tumor Foundation's Birthday
DESCRIPTION:Celebrate another year of the Southeastern Brain Tumor Foundation with us! The SBTF was founded in 1995 by a family whose son was facing a brain tumor diagnosis. It has grown into a Foundation that has funded almost $3 million dollars in research\, awarded scholarships\, and supported patients and their families. Our impact together can be seen in the research strides as well as in the improvement of the lives of brain tumor and brain cancer patients and their families. Each year the generosity of our loyal supporters is translated into research grants\, educational scholarships\, support group programs and patient services. The Foundation is proudly served by an all-volunteer Board of Directors who have each been impacted by a brain tumor or brain cancer. \nPlease consider making a birthday gift to the Southeastern Brain Tumor Foundation today and celebrate with us! \nSometimes the donations received during our Birthday Celebration are earmarked for a specific goal: \n\nSummer Medical Student Fellowship\npost-secondary scholarships\npatient programs including grocery delivery\, transportation assistance and other services\nor as general donations to the Foundation\n\nDonate here on this site\, on Facebook or on Instagram. However\, if you donate on this site you can choose how to direct your gift: research\, scholarships\, or to lighten the load for patients. Don’t forget to check to see if your employer will match your gift and double the impact of your generosity!
URL:https://sbtf.org/event/southeastern-brain-tumor-foundation-birthday/
LOCATION:The Landing Golf Course at Reynolds Lake Oconee\, 1104 Landing Drive\, Greensboro\, GA\, 30642\, United States
CATEGORIES:Celebration,Events
ATTACH;FMTTYPE=image/png:https://sbtf.org/wp-content/uploads/2020/12/DONATE-25-years.png
ORGANIZER;CN="Southeastern Brain Tumor Foundation":MAILTO:info@sbtf.org
END:VEVENT
END:VCALENDAR