BEGIN:VCALENDAR
VERSION:2.0
PRODID:-//Southeastern Brain Tumor Foundation - ECPv6.15.20//NONSGML v1.0//EN
CALSCALE:GREGORIAN
METHOD:PUBLISH
X-ORIGINAL-URL:https://sbtf.org
X-WR-CALDESC:Events for Southeastern Brain Tumor Foundation
REFRESH-INTERVAL;VALUE=DURATION:PT1H
X-Robots-Tag:noindex
X-PUBLISHED-TTL:PT1H
BEGIN:VTIMEZONE
TZID:America/New_York
BEGIN:DAYLIGHT
TZOFFSETFROM:-0500
TZOFFSETTO:-0400
TZNAME:EDT
DTSTART:20210314T070000
END:DAYLIGHT
BEGIN:STANDARD
TZOFFSETFROM:-0400
TZOFFSETTO:-0500
TZNAME:EST
DTSTART:20211107T060000
END:STANDARD
BEGIN:DAYLIGHT
TZOFFSETFROM:-0500
TZOFFSETTO:-0400
TZNAME:EDT
DTSTART:20220313T070000
END:DAYLIGHT
BEGIN:STANDARD
TZOFFSETFROM:-0400
TZOFFSETTO:-0500
TZNAME:EST
DTSTART:20221106T060000
END:STANDARD
BEGIN:DAYLIGHT
TZOFFSETFROM:-0500
TZOFFSETTO:-0400
TZNAME:EDT
DTSTART:20230312T070000
END:DAYLIGHT
BEGIN:STANDARD
TZOFFSETFROM:-0400
TZOFFSETTO:-0500
TZNAME:EST
DTSTART:20231105T060000
END:STANDARD
END:VTIMEZONE
BEGIN:VEVENT
DTSTART;TZID=America/New_York:20221104T123000
DTEND;TZID=America/New_York:20221104T140000
DTSTAMP:20260421T055646
CREATED:20221102T183758Z
LAST-MODIFIED:20221102T184850Z
UID:10000333-1667565000-1667570400@sbtf.org
SUMMARY:Adult Brain Tumor Support Group
DESCRIPTION:Hosted by the SBTF\, the Adult Brain Tumor Support Group aims to provide an opportunity for information sharing and support for brain tumor patients\, as well as their family\, their friends and their caregivers. Learn about all the brain tumor support group opportunities on our Support Group Resource page. \nFor the first time since March 2020\, the SBTF is pleased to offer this face-to-face brain tumor support group meeting for adult patients and caregivers. The meeting will occur in the Neurosurgery Conference Room B2200. Upon entering the foyer\, check in with the front desk to advise them you are participating in the brain tumor support group meeting. They will direct you to the conference room. \nParking decks are located just off Clifton Road\, directly behind Emory Clinic Building B in the lower gate East Deck. Additional info can be found at https://www.emoryhealthcare.org/locations/hospitals/emory-university-hospital/directions.html \nAll support group meetings are facilitated by a trained medical professional and are inclusive of all patients who are facing a brain tumor diagnosis and their caregivers. \nFor questions\, please email info@sbtf.org
URL:https://sbtf.org/event/adult-brain-tumor-support-group/
LOCATION:Emory Clinic – Building B\, 1365 Clifton Road\, Atlanta\, GA\, 30322\, United States
CATEGORIES:Adult Caregivers & Survivors,Support Group
ORGANIZER;CN="Southeastern Brain Tumor Foundation":MAILTO:info@sbtf.org
END:VEVENT
BEGIN:VEVENT
DTSTART;TZID=America/New_York:20221117T123000
DTEND;TZID=America/New_York:20221117T140000
DTSTAMP:20260421T055646
CREATED:20210422T183149Z
LAST-MODIFIED:20230104T225820Z
UID:10000236-1668688200-1668693600@sbtf.org
SUMMARY:Emory St. Joseph's Support Group
DESCRIPTION:Hosted by the SBTF\, the Emory Brain Tumor Support Group aims to provide an opportunity for information sharing and support for brain tumor patients\, as well as their family\, their friends and their caregivers. Learn about all the brain tumor support group opportunities on our Support Group Resource page. \nThe Emory Brain Tumor Support Group currently meets via the online platform Zoom due to pandemic safety concerns. When able\, the group meets at the St. Joseph’s campus of Emory Healthcare in Atlanta\, Georgia. However\, the online platform is slated to continue even after face-to-face meetings can resume. This will allow participants not in the Atlanta area and those who do not feel comfortable in a group setting to still have access to the support group. \nMeetings are held every other Thursday from 12:30 – 2:00 pm ET. The meetings are open to patients and their caregivers. Some meetings include a guest speaker on topic relevant to the brain tumor community. Past guests have included representatives from the Brain Donor Project\, the Jasper Health app\, physical therapy professionals and more. \nAll support group meetings are facilitated by a trained medical professional and are inclusive of all patients who are facing a brain tumor diagnosis and their caregivers. \nPlease RSVP to Farnaz Arabshahi at farnaz.arabshahi@emoryhealthcare.org or call 404-668-9511 to register and receive the Zoom invite.
URL:https://sbtf.org/event/emory-brain-tumor-support-group/2022-11-17/
LOCATION:Virtual Event\, United States
CATEGORIES:Adult Caregivers & Survivors,Support Group
ATTACH;FMTTYPE=image/png:https://sbtf.org/wp-content/uploads/2021/04/use-this-one-adult.png
ORGANIZER;CN="Southeastern Brain Tumor Foundation":MAILTO:info@sbtf.org
END:VEVENT
END:VCALENDAR