BEGIN:VCALENDAR
VERSION:2.0
PRODID:-//Southeastern Brain Tumor Foundation - ECPv6.15.20//NONSGML v1.0//EN
CALSCALE:GREGORIAN
METHOD:PUBLISH
X-WR-CALNAME:Southeastern Brain Tumor Foundation
X-ORIGINAL-URL:https://sbtf.org
X-WR-CALDESC:Events for Southeastern Brain Tumor Foundation
REFRESH-INTERVAL;VALUE=DURATION:PT1H
X-Robots-Tag:noindex
X-PUBLISHED-TTL:PT1H
BEGIN:VTIMEZONE
TZID:America/New_York
BEGIN:DAYLIGHT
TZOFFSETFROM:-0500
TZOFFSETTO:-0400
TZNAME:EDT
DTSTART:20200308T070000
END:DAYLIGHT
BEGIN:STANDARD
TZOFFSETFROM:-0400
TZOFFSETTO:-0500
TZNAME:EST
DTSTART:20201101T060000
END:STANDARD
BEGIN:DAYLIGHT
TZOFFSETFROM:-0500
TZOFFSETTO:-0400
TZNAME:EDT
DTSTART:20210314T070000
END:DAYLIGHT
BEGIN:STANDARD
TZOFFSETFROM:-0400
TZOFFSETTO:-0500
TZNAME:EST
DTSTART:20211107T060000
END:STANDARD
BEGIN:DAYLIGHT
TZOFFSETFROM:-0500
TZOFFSETTO:-0400
TZNAME:EDT
DTSTART:20220313T070000
END:DAYLIGHT
BEGIN:STANDARD
TZOFFSETFROM:-0400
TZOFFSETTO:-0500
TZNAME:EST
DTSTART:20221106T060000
END:STANDARD
END:VTIMEZONE
BEGIN:VEVENT
DTSTART;TZID=America/New_York:20210925T070000
DTEND;TZID=America/New_York:20210925T120000
DTSTAMP:20260423T030126
CREATED:20201104T142923Z
LAST-MODIFIED:20210812T201934Z
UID:10000167-1632553200-1632571200@sbtf.org
SUMMARY:Race for Research
DESCRIPTION:The Race for Research\, our annual fall 5k race\, 1k fun walk/run held in Atlanta\, Georgia\, provides hope for the advancements in brain tumor treatment. The success of this annual fundraiser enables us to fund vital brain tumor research. Each fall over 1\,000 people join together as a community to bring awareness and hope to those facing a brain tumor diagnosis. Funds raised are used to support research grants looking for a cure. To learn more\, visit SBTFrfr.com. \nRegistration is NOW OPEN for the Race for Research! We can’t wait to see your face as this will be an in-person event! We are monitoring current CDC and City of Atlanta guidelines for COVID-19 protocals. At this time\, we are planning the Race as an in-person event. We understand some may not feel safe joining us in -person and encourage those supporters to either donate or participate as a virtual runner. If we have to change the format of the Race\, we will announce the change via email\, social media and our Newsroom. \nRegister for the 1k or 5k run/walk\, kids tot trot\, as a volunteer or as a virtual participant. \n  \nRace for Research photos will be available for free download approximately two weeks after the Race. Check back here or on the Newsroom page for the link when available.
URL:https://sbtf.org/event/race-for-research/
LOCATION:Atlantic Station\, 1380 Atlantic Drive NW\, Atlanta\, GA\, 30363\, United States
CATEGORIES:Events
ATTACH;FMTTYPE=image/jpeg:https://sbtf.org/wp-content/uploads/2020/11/Race-for-Research-scaled.jpg
ORGANIZER;CN="Southeastern Brain Tumor Foundation":MAILTO:info@sbtf.org
END:VEVENT
END:VCALENDAR