BEGIN:VCALENDAR
VERSION:2.0
PRODID:-//Southeastern Brain Tumor Foundation - ECPv6.15.20//NONSGML v1.0//EN
CALSCALE:GREGORIAN
METHOD:PUBLISH
X-ORIGINAL-URL:https://sbtf.org
X-WR-CALDESC:Events for Southeastern Brain Tumor Foundation
REFRESH-INTERVAL;VALUE=DURATION:PT1H
X-Robots-Tag:noindex
X-PUBLISHED-TTL:PT1H
BEGIN:VTIMEZONE
TZID:America/New_York
BEGIN:DAYLIGHT
TZOFFSETFROM:-0500
TZOFFSETTO:-0400
TZNAME:EDT
DTSTART:20200308T070000
END:DAYLIGHT
BEGIN:STANDARD
TZOFFSETFROM:-0400
TZOFFSETTO:-0500
TZNAME:EST
DTSTART:20201101T060000
END:STANDARD
BEGIN:DAYLIGHT
TZOFFSETFROM:-0500
TZOFFSETTO:-0400
TZNAME:EDT
DTSTART:20210314T070000
END:DAYLIGHT
BEGIN:STANDARD
TZOFFSETFROM:-0400
TZOFFSETTO:-0500
TZNAME:EST
DTSTART:20211107T060000
END:STANDARD
BEGIN:DAYLIGHT
TZOFFSETFROM:-0500
TZOFFSETTO:-0400
TZNAME:EDT
DTSTART:20220313T070000
END:DAYLIGHT
BEGIN:STANDARD
TZOFFSETFROM:-0400
TZOFFSETTO:-0500
TZNAME:EST
DTSTART:20221106T060000
END:STANDARD
END:VTIMEZONE
BEGIN:VEVENT
DTSTART;VALUE=DATE:20211130
DTEND;VALUE=DATE:20211201
DTSTAMP:20260422T231635
CREATED:20210128T025919Z
LAST-MODIFIED:20211102T200002Z
UID:10000180-1638230400-1638316799@sbtf.org
SUMMARY:Giving Tuesday 2021
DESCRIPTION:Giving Tuesday\, a global day of generosity and kindness\, will be November 30\, 2021. Funds raised on the day of kindness will support the “Lighten the Load” brain tumor patient initiative which offers acts of kindness such as grocery delivery\, meal options and transportation assistance to those currently undergoing treatment for a primary brain tumor. \nGiving Tuesday occurs annually on the Tuesday after Thanksgiving each year. \nYou can support this initiative on our Donate Page \nor you can set up a personal fundraiser on Facebook\, add a donation sticker to an IG story\, or use our “Fundraise Your Way” feature to create a fundraiser.
URL:https://sbtf.org/event/giving-tuesday-2/
LOCATION:Virtual Event\, United States
CATEGORIES:Events
ATTACH;FMTTYPE=image/png:https://sbtf.org/wp-content/uploads/2021/01/1Giving-Tuesday-2021.png
ORGANIZER;CN="Southeastern Brain Tumor Foundation":MAILTO:info@sbtf.org
END:VEVENT
END:VCALENDAR