BEGIN:VCALENDAR
VERSION:2.0
PRODID:-//Southeastern Brain Tumor Foundation - ECPv6.15.20//NONSGML v1.0//EN
CALSCALE:GREGORIAN
METHOD:PUBLISH
X-WR-CALNAME:Southeastern Brain Tumor Foundation
X-ORIGINAL-URL:https://sbtf.org
X-WR-CALDESC:Events for Southeastern Brain Tumor Foundation
REFRESH-INTERVAL;VALUE=DURATION:PT1H
X-Robots-Tag:noindex
X-PUBLISHED-TTL:PT1H
BEGIN:VTIMEZONE
TZID:America/New_York
BEGIN:DAYLIGHT
TZOFFSETFROM:-0500
TZOFFSETTO:-0400
TZNAME:EDT
DTSTART:20210314T070000
END:DAYLIGHT
BEGIN:STANDARD
TZOFFSETFROM:-0400
TZOFFSETTO:-0500
TZNAME:EST
DTSTART:20211107T060000
END:STANDARD
BEGIN:DAYLIGHT
TZOFFSETFROM:-0500
TZOFFSETTO:-0400
TZNAME:EDT
DTSTART:20220313T070000
END:DAYLIGHT
BEGIN:STANDARD
TZOFFSETFROM:-0400
TZOFFSETTO:-0500
TZNAME:EST
DTSTART:20221106T060000
END:STANDARD
BEGIN:DAYLIGHT
TZOFFSETFROM:-0500
TZOFFSETTO:-0400
TZNAME:EDT
DTSTART:20230312T070000
END:DAYLIGHT
BEGIN:STANDARD
TZOFFSETFROM:-0400
TZOFFSETTO:-0500
TZNAME:EST
DTSTART:20231105T060000
END:STANDARD
END:VTIMEZONE
BEGIN:VEVENT
DTSTART;TZID=America/New_York:20220423T073000
DTEND;TZID=America/New_York:20220423T120000
DTSTAMP:20260419T231327
CREATED:20211208T133854Z
LAST-MODIFIED:20230703T171922Z
UID:10000325-1650699000-1650715200@sbtf.org
SUMMARY:Muddy Duck Dash
DESCRIPTION:The Muddy Duck Dash is a family friendly\, fun and easy to moderate 3.1 mile mud/obstacle style race and included various obstacles\, a 125′ bubble water slide\, shallow pond crossing\, two creek runs\, mud pit\, plus more! Complete the course by walking\, running (or both!) while tackling all obstacles or skipping the ones you choose! Held rain or shine\, this event is slated to attract up to 1\,000 participants. At 7:00 am\, the FUN kicks off with Registration Opening\, the Duck-o-Rating Table gets quackin’ and the Team Nest Decorating Begins! \nA Duckling Dash allows kids under eight and those who’s abilities may not fit the full course to participate. The Dash has scheduled starting waves\, so be sure to get your flock all in the same start wave! \nVisit sbtfmdd.com for further details. Pay attention to the DJ— he will announce the starting waves\, games and results during the Dash. \nThe Dash is also looking for sponsors! For further information on sponsor benefits and how to partner with the SBTF at the Muddy Duck Dash\, please view the Sponsorship Form or visit the Sponsor tab at sbtfmdd.com \nThis year we introduce the VIP Experience! Those who choose this upgraded participant type will enjoy dedicated changing area\, private portable restrooms and a BBQ meal… and more! This upgrade is available for only 150 participants and available only until April 13\, 2022. \nPricing: \n\nGeneral Admission Full 5k Dash: $50 through April 8\, $60 through April 21\, and $75 on Dash Day\nVIP Experience Full 5k Dash: $100 — availability ends April 13\nGeneral Admission Duckling Dash: $40 through April 8\, $50 through April 21\, and $65 on Dash Day\nVIP Experience Duckling Dash: $90 — availability ends April 13\n\nTeams may elect to reserve a team tent location in Central Flock and have a place for their team to gather\, store personal items and wash off after the event. A hose will be available for limited rinsing however changing areas and full bathrooms will not be available. \nFood trucks will be onsite selling food and beverages\, they accept cash\, credit card and Venmo. Be sure to stop by the Southeastern Brain Tumor Foundation tent and learn about how your participation helps the brain tumor community. \nDash photos are available approximately two weeks after the event. Check back here or on our Newsroom page for the link once available. A BIG THANKS to our sponsors who make the event possible.
URL:https://sbtf.org/event/muddy-duck-dash-2022/
LOCATION:University of North Georgia- Gainesville/Oakwood Campus\, 3820 Mundy Mill Road\, Oakwood\, GA\, 30566\, United States
CATEGORIES:Events,Muddy Duck Dash
ATTACH;FMTTYPE=image/png:https://sbtf.org/wp-content/uploads/2021/12/MuddyDuckDash_2022Logo_v2.png
ORGANIZER;CN="Southeastern Brain Tumor Foundation":MAILTO:info@sbtf.org
END:VEVENT
END:VCALENDAR